BEGIN:VCALENDAR
VERSION:2.0
PRODID:-//https://www.bourth.fr///NONSGML kigkonsult.se iCalcreator 2.10.15//
METHOD:PUBLISH
BEGIN:VEVENT
UID:20260425T153237CEST-0999G5fSAb@https://www.bourth.fr/
DTSTAMP:20260425T133237Z
DESCRIPTION:Le Conseil Municipal se réunira en session ordinaire\nOrdre du 
 jour (publication 7 jours avant la date) https://www.bourth.fr/agenda/even
 ement/442-copie-de-conseil-municipal.html
DTSTART:20260507T180000Z
DTEND:20260507T203000Z
LOCATION:Mairie de Bourth (3 Avenue de l'Europe\, 27580 Bourth\, France)
SUMMARY:Copie de Conseil Municipal
URL:https://www.bourth.fr/agenda/evenement/442-copie-de-conseil-municipal.h
 tml
END:VEVENT
END:VCALENDAR
